BEGIN:VCALENDAR
VERSION:2.0
PRODID:-//New Anglia Growth Hub - ECPv6.15.17.1//NONSGML v1.0//EN
CALSCALE:GREGORIAN
METHOD:PUBLISH
X-WR-CALNAME:New Anglia Growth Hub
X-ORIGINAL-URL:https://www.newangliagrowthhub.co.uk
X-WR-CALDESC:Events for New Anglia Growth Hub
REFRESH-INTERVAL;VALUE=DURATION:PT1H
X-Robots-Tag:noindex
X-PUBLISHED-TTL:PT1H
BEGIN:VTIMEZONE
TZID:Europe/London
BEGIN:DAYLIGHT
TZOFFSETFROM:+0000
TZOFFSETTO:+0100
TZNAME:BST
DTSTART:20250330T010000
END:DAYLIGHT
BEGIN:STANDARD
TZOFFSETFROM:+0100
TZOFFSETTO:+0000
TZNAME:GMT
DTSTART:20251026T010000
END:STANDARD
BEGIN:DAYLIGHT
TZOFFSETFROM:+0000
TZOFFSETTO:+0100
TZNAME:BST
DTSTART:20260329T010000
END:DAYLIGHT
BEGIN:STANDARD
TZOFFSETFROM:+0100
TZOFFSETTO:+0000
TZNAME:GMT
DTSTART:20261025T010000
END:STANDARD
BEGIN:DAYLIGHT
TZOFFSETFROM:+0000
TZOFFSETTO:+0100
TZNAME:BST
DTSTART:20270328T010000
END:DAYLIGHT
BEGIN:STANDARD
TZOFFSETFROM:+0100
TZOFFSETTO:+0000
TZNAME:GMT
DTSTART:20271031T010000
END:STANDARD
END:VTIMEZONE
BEGIN:VEVENT
DTSTART;TZID=Europe/London:20260423T100000
DTEND;TZID=Europe/London:20260423T110000
DTSTAMP:20260423T102613
CREATED:20260320T130652Z
LAST-MODIFIED:20260416T130510Z
UID:64825-1776938400-1776942000@www.newangliagrowthhub.co.uk
SUMMARY:Understanding the Cyber Threat Landscape for SMEs
DESCRIPTION:Norfolk and Suffolk Police Cyber Security Advisers invite you to an exclusive online workshop. \nBook your place here. \nEvent Description:\nJoin us for a one-hour session designed to help organisations strengthen their cyber security defences. \nA fast\, clear introduction to cyber threats targeting Sole traders\, small\, and medium businesses. Learn what attacks look like\, why you are at risk and hear about local case studies. \n\nLook at criminal’s motivations\nNational statistics\nCase studies\nReview common attacks.\n\nWhether you’re a business leader\, operational manager or a member of frontline staff this session will equip you with the knowledge to enhance your organisation’s resilience against evolving cyber threats. \nEligibility:\nThese small group workshops are funded by The Department of Business and Trade and are open to any trading business\, freelancer\, or charity based in Norfolk or Suffolk\, UK. \n  \nNew Anglia Growth Hub T&Cs \nDue to funding restrictions\, only one ticket per company is available initially. If a workshop is not fully booked\, a second ticket may be requested the day before the event by contacting jo.barnard@newangliagrowthhub.co.uk \nNew Anglia Growth Hub can help your business access a range of business support services from hundreds of sources. The hub’s IMPARTIAL service is fully funded and provided at no cost to your business and can help you access grants\, finance\, international trade support\, skills\, training and a range of other specialist advice from single point of contact. \nOur Business Growth Advisers can talk with you over the phone or via Microsoft Teams or Zoom\, or you can request a free appointment at your business premises. \nOur Business Support is available to all SMEs throughout Norfolk and Suffolk (UK). \nTo get the most out of the service\, call our local business support helpline: \n0300 333 6536 \nEmail: info@newangliagrowthhub.co.uk
URL:https://www.newangliagrowthhub.co.uk/event/understanding-the-cyber-threat-landscape-for-smes/
LOCATION:Virtual
CATEGORIES:Events,Norfolk Events,Suffolk Events
ATTACH;FMTTYPE=image/jpeg:https://www.newangliagrowthhub.co.uk/wp-content/uploads/2026/03/Understanding-the-Cyber-Threat-Landscape-for-SMEs.jpg
END:VEVENT
END:VCALENDAR